BEGIN:VCALENDAR
VERSION:2.0
PRODID:-//Continental Ranch - ECPv6.14.0//NONSGML v1.0//EN
CALSCALE:GREGORIAN
METHOD:PUBLISH
X-ORIGINAL-URL:https://crcatucson.com
X-WR-CALDESC:Events for Continental Ranch
REFRESH-INTERVAL;VALUE=DURATION:PT1H
X-Robots-Tag:noindex
X-PUBLISHED-TTL:PT1H
BEGIN:VTIMEZONE
TZID:America/Phoenix
BEGIN:STANDARD
TZOFFSETFROM:-0700
TZOFFSETTO:-0700
TZNAME:MST
DTSTART:20300101T000000
END:STANDARD
END:VTIMEZONE
BEGIN:VEVENT
DTSTART;TZID=America/Phoenix:20300307T180000
DTEND;TZID=America/Phoenix:20300307T190000
DTSTAMP:20260424T081233
CREATED:20251119T220549Z
LAST-MODIFIED:20251119T221855Z
UID:10001594-1899136800-1899140400@crcatucson.com
SUMMARY:Arc. Review Committee
DESCRIPTION:The Architectural Review Committee meets twice a month\, on the 1st Thursday at 6:00pm and the 3rd Thursday at 6:00pm.
URL:https://crcatucson.com/event/arc-review-committee-4-2/2030-03-07/
LOCATION:Windmill Park Conference Room\, 9150 N Coachline Blvd.\, Tucson\, AZ\, 85743\, United States
END:VEVENT
BEGIN:VEVENT
DTSTART;TZID=America/Phoenix:20300404T180000
DTEND;TZID=America/Phoenix:20300404T190000
DTSTAMP:20260424T081233
CREATED:20251119T220549Z
LAST-MODIFIED:20251119T221855Z
UID:10001595-1901556000-1901559600@crcatucson.com
SUMMARY:Arc. Review Committee
DESCRIPTION:The Architectural Review Committee meets twice a month\, on the 1st Thursday at 6:00pm and the 3rd Thursday at 6:00pm.
URL:https://crcatucson.com/event/arc-review-committee-4-2/2030-04-04/
LOCATION:Windmill Park Conference Room\, 9150 N Coachline Blvd.\, Tucson\, AZ\, 85743\, United States
END:VEVENT
BEGIN:VEVENT
DTSTART;TZID=America/Phoenix:20300502T180000
DTEND;TZID=America/Phoenix:20300502T190000
DTSTAMP:20260424T081233
CREATED:20251119T220549Z
LAST-MODIFIED:20251119T221855Z
UID:10001596-1903975200-1903978800@crcatucson.com
SUMMARY:Arc. Review Committee
DESCRIPTION:The Architectural Review Committee meets twice a month\, on the 1st Thursday at 6:00pm and the 3rd Thursday at 6:00pm.
URL:https://crcatucson.com/event/arc-review-committee-4-2/2030-05-02/
LOCATION:Windmill Park Conference Room\, 9150 N Coachline Blvd.\, Tucson\, AZ\, 85743\, United States
END:VEVENT
BEGIN:VEVENT
DTSTART;TZID=America/Phoenix:20300606T180000
DTEND;TZID=America/Phoenix:20300606T190000
DTSTAMP:20260424T081233
CREATED:20251119T220549Z
LAST-MODIFIED:20251119T221855Z
UID:10001597-1906999200-1907002800@crcatucson.com
SUMMARY:Arc. Review Committee
DESCRIPTION:The Architectural Review Committee meets twice a month\, on the 1st Thursday at 6:00pm and the 3rd Thursday at 6:00pm.
URL:https://crcatucson.com/event/arc-review-committee-4-2/2030-06-06/
LOCATION:Windmill Park Conference Room\, 9150 N Coachline Blvd.\, Tucson\, AZ\, 85743\, United States
END:VEVENT
BEGIN:VEVENT
DTSTART;TZID=America/Phoenix:20300704T180000
DTEND;TZID=America/Phoenix:20300704T190000
DTSTAMP:20260424T081233
CREATED:20251119T220549Z
LAST-MODIFIED:20251119T221855Z
UID:10001598-1909418400-1909422000@crcatucson.com
SUMMARY:Arc. Review Committee
DESCRIPTION:The Architectural Review Committee meets twice a month\, on the 1st Thursday at 6:00pm and the 3rd Thursday at 6:00pm.
URL:https://crcatucson.com/event/arc-review-committee-4-2/2030-07-04/
LOCATION:Windmill Park Conference Room\, 9150 N Coachline Blvd.\, Tucson\, AZ\, 85743\, United States
END:VEVENT
BEGIN:VEVENT
DTSTART;TZID=America/Phoenix:20300801T180000
DTEND;TZID=America/Phoenix:20300801T190000
DTSTAMP:20260424T081233
CREATED:20251119T220549Z
LAST-MODIFIED:20251119T221855Z
UID:10001599-1911837600-1911841200@crcatucson.com
SUMMARY:Arc. Review Committee
DESCRIPTION:The Architectural Review Committee meets twice a month\, on the 1st Thursday at 6:00pm and the 3rd Thursday at 6:00pm.
URL:https://crcatucson.com/event/arc-review-committee-4-2/2030-08-01/
LOCATION:Windmill Park Conference Room\, 9150 N Coachline Blvd.\, Tucson\, AZ\, 85743\, United States
END:VEVENT
BEGIN:VEVENT
DTSTART;TZID=America/Phoenix:20300905T180000
DTEND;TZID=America/Phoenix:20300905T190000
DTSTAMP:20260424T081233
CREATED:20251119T220549Z
LAST-MODIFIED:20251119T221855Z
UID:10001600-1914861600-1914865200@crcatucson.com
SUMMARY:Arc. Review Committee
DESCRIPTION:The Architectural Review Committee meets twice a month\, on the 1st Thursday at 6:00pm and the 3rd Thursday at 6:00pm.
URL:https://crcatucson.com/event/arc-review-committee-4-2/2030-09-05/
LOCATION:Windmill Park Conference Room\, 9150 N Coachline Blvd.\, Tucson\, AZ\, 85743\, United States
END:VEVENT
BEGIN:VEVENT
DTSTART;TZID=America/Phoenix:20301003T180000
DTEND;TZID=America/Phoenix:20301003T190000
DTSTAMP:20260424T081233
CREATED:20251119T220549Z
LAST-MODIFIED:20251119T221855Z
UID:10001601-1917280800-1917284400@crcatucson.com
SUMMARY:Arc. Review Committee
DESCRIPTION:The Architectural Review Committee meets twice a month\, on the 1st Thursday at 6:00pm and the 3rd Thursday at 6:00pm.
URL:https://crcatucson.com/event/arc-review-committee-4-2/2030-10-03/
LOCATION:Windmill Park Conference Room\, 9150 N Coachline Blvd.\, Tucson\, AZ\, 85743\, United States
END:VEVENT
BEGIN:VEVENT
DTSTART;TZID=America/Phoenix:20301107T180000
DTEND;TZID=America/Phoenix:20301107T190000
DTSTAMP:20260424T081233
CREATED:20251119T220549Z
LAST-MODIFIED:20251119T221855Z
UID:10001602-1920304800-1920308400@crcatucson.com
SUMMARY:Arc. Review Committee
DESCRIPTION:The Architectural Review Committee meets twice a month\, on the 1st Thursday at 6:00pm and the 3rd Thursday at 6:00pm.
URL:https://crcatucson.com/event/arc-review-committee-4-2/2030-11-07/
LOCATION:Windmill Park Conference Room\, 9150 N Coachline Blvd.\, Tucson\, AZ\, 85743\, United States
END:VEVENT
END:VCALENDAR