BEGIN:VCALENDAR
VERSION:2.0
PRODID:-//Continental Ranch - ECPv6.14.0//NONSGML v1.0//EN
CALSCALE:GREGORIAN
METHOD:PUBLISH
X-ORIGINAL-URL:https://crcatucson.com
X-WR-CALDESC:Events for Continental Ranch
REFRESH-INTERVAL;VALUE=DURATION:PT1H
X-Robots-Tag:noindex
X-PUBLISHED-TTL:PT1H
BEGIN:VTIMEZONE
TZID:America/Phoenix
BEGIN:STANDARD
TZOFFSETFROM:-0700
TZOFFSETTO:-0700
TZNAME:MST
DTSTART:20270101T000000
END:STANDARD
END:VTIMEZONE
BEGIN:VEVENT
DTSTART;TZID=America/Phoenix:20270902T180000
DTEND;TZID=America/Phoenix:20270902T190000
DTSTAMP:20260424T033013
CREATED:20251119T220549Z
LAST-MODIFIED:20251119T221855Z
UID:10001564-1819908000-1819911600@crcatucson.com
SUMMARY:Arc. Review Committee
DESCRIPTION:The Architectural Review Committee meets twice a month\, on the 1st Thursday at 6:00pm and the 3rd Thursday at 6:00pm.
URL:https://crcatucson.com/event/arc-review-committee-4-2/2027-09-02/
LOCATION:Windmill Park Conference Room\, 9150 N Coachline Blvd.\, Tucson\, AZ\, 85743\, United States
END:VEVENT
BEGIN:VEVENT
DTSTART;TZID=America/Phoenix:20271007T180000
DTEND;TZID=America/Phoenix:20271007T190000
DTSTAMP:20260424T033013
CREATED:20251119T220549Z
LAST-MODIFIED:20251119T221855Z
UID:10001565-1822932000-1822935600@crcatucson.com
SUMMARY:Arc. Review Committee
DESCRIPTION:The Architectural Review Committee meets twice a month\, on the 1st Thursday at 6:00pm and the 3rd Thursday at 6:00pm.
URL:https://crcatucson.com/event/arc-review-committee-4-2/2027-10-07/
LOCATION:Windmill Park Conference Room\, 9150 N Coachline Blvd.\, Tucson\, AZ\, 85743\, United States
END:VEVENT
BEGIN:VEVENT
DTSTART;TZID=America/Phoenix:20271104T180000
DTEND;TZID=America/Phoenix:20271104T190000
DTSTAMP:20260424T033013
CREATED:20251119T220549Z
LAST-MODIFIED:20251119T221855Z
UID:10001566-1825351200-1825354800@crcatucson.com
SUMMARY:Arc. Review Committee
DESCRIPTION:The Architectural Review Committee meets twice a month\, on the 1st Thursday at 6:00pm and the 3rd Thursday at 6:00pm.
URL:https://crcatucson.com/event/arc-review-committee-4-2/2027-11-04/
LOCATION:Windmill Park Conference Room\, 9150 N Coachline Blvd.\, Tucson\, AZ\, 85743\, United States
END:VEVENT
BEGIN:VEVENT
DTSTART;TZID=America/Phoenix:20271202T180000
DTEND;TZID=America/Phoenix:20271202T190000
DTSTAMP:20260424T033013
CREATED:20251119T220549Z
LAST-MODIFIED:20251119T221855Z
UID:10001567-1827770400-1827774000@crcatucson.com
SUMMARY:Arc. Review Committee
DESCRIPTION:The Architectural Review Committee meets twice a month\, on the 1st Thursday at 6:00pm and the 3rd Thursday at 6:00pm.
URL:https://crcatucson.com/event/arc-review-committee-4-2/2027-12-02/
LOCATION:Windmill Park Conference Room\, 9150 N Coachline Blvd.\, Tucson\, AZ\, 85743\, United States
END:VEVENT
BEGIN:VEVENT
DTSTART;TZID=America/Phoenix:20280106T180000
DTEND;TZID=America/Phoenix:20280106T190000
DTSTAMP:20260424T033013
CREATED:20251119T220549Z
LAST-MODIFIED:20251119T221855Z
UID:10001568-1830794400-1830798000@crcatucson.com
SUMMARY:Arc. Review Committee
DESCRIPTION:The Architectural Review Committee meets twice a month\, on the 1st Thursday at 6:00pm and the 3rd Thursday at 6:00pm.
URL:https://crcatucson.com/event/arc-review-committee-4-2/2028-01-06/
LOCATION:Windmill Park Conference Room\, 9150 N Coachline Blvd.\, Tucson\, AZ\, 85743\, United States
END:VEVENT
BEGIN:VEVENT
DTSTART;TZID=America/Phoenix:20280203T180000
DTEND;TZID=America/Phoenix:20280203T190000
DTSTAMP:20260424T033013
CREATED:20251119T220549Z
LAST-MODIFIED:20251119T221855Z
UID:10001569-1833213600-1833217200@crcatucson.com
SUMMARY:Arc. Review Committee
DESCRIPTION:The Architectural Review Committee meets twice a month\, on the 1st Thursday at 6:00pm and the 3rd Thursday at 6:00pm.
URL:https://crcatucson.com/event/arc-review-committee-4-2/2028-02-03/
LOCATION:Windmill Park Conference Room\, 9150 N Coachline Blvd.\, Tucson\, AZ\, 85743\, United States
END:VEVENT
BEGIN:VEVENT
DTSTART;TZID=America/Phoenix:20280302T180000
DTEND;TZID=America/Phoenix:20280302T190000
DTSTAMP:20260424T033013
CREATED:20251119T220549Z
LAST-MODIFIED:20251119T221855Z
UID:10001570-1835632800-1835636400@crcatucson.com
SUMMARY:Arc. Review Committee
DESCRIPTION:The Architectural Review Committee meets twice a month\, on the 1st Thursday at 6:00pm and the 3rd Thursday at 6:00pm.
URL:https://crcatucson.com/event/arc-review-committee-4-2/2028-03-02/
LOCATION:Windmill Park Conference Room\, 9150 N Coachline Blvd.\, Tucson\, AZ\, 85743\, United States
END:VEVENT
BEGIN:VEVENT
DTSTART;TZID=America/Phoenix:20280406T180000
DTEND;TZID=America/Phoenix:20280406T190000
DTSTAMP:20260424T033013
CREATED:20251119T220549Z
LAST-MODIFIED:20251119T221855Z
UID:10001571-1838656800-1838660400@crcatucson.com
SUMMARY:Arc. Review Committee
DESCRIPTION:The Architectural Review Committee meets twice a month\, on the 1st Thursday at 6:00pm and the 3rd Thursday at 6:00pm.
URL:https://crcatucson.com/event/arc-review-committee-4-2/2028-04-06/
LOCATION:Windmill Park Conference Room\, 9150 N Coachline Blvd.\, Tucson\, AZ\, 85743\, United States
END:VEVENT
BEGIN:VEVENT
DTSTART;TZID=America/Phoenix:20280504T180000
DTEND;TZID=America/Phoenix:20280504T190000
DTSTAMP:20260424T033013
CREATED:20251119T220549Z
LAST-MODIFIED:20251119T221855Z
UID:10001572-1841076000-1841079600@crcatucson.com
SUMMARY:Arc. Review Committee
DESCRIPTION:The Architectural Review Committee meets twice a month\, on the 1st Thursday at 6:00pm and the 3rd Thursday at 6:00pm.
URL:https://crcatucson.com/event/arc-review-committee-4-2/2028-05-04/
LOCATION:Windmill Park Conference Room\, 9150 N Coachline Blvd.\, Tucson\, AZ\, 85743\, United States
END:VEVENT
BEGIN:VEVENT
DTSTART;TZID=America/Phoenix:20280601T180000
DTEND;TZID=America/Phoenix:20280601T190000
DTSTAMP:20260424T033013
CREATED:20251119T220549Z
LAST-MODIFIED:20251119T221855Z
UID:10001573-1843495200-1843498800@crcatucson.com
SUMMARY:Arc. Review Committee
DESCRIPTION:The Architectural Review Committee meets twice a month\, on the 1st Thursday at 6:00pm and the 3rd Thursday at 6:00pm.
URL:https://crcatucson.com/event/arc-review-committee-4-2/2028-06-01/
LOCATION:Windmill Park Conference Room\, 9150 N Coachline Blvd.\, Tucson\, AZ\, 85743\, United States
END:VEVENT
BEGIN:VEVENT
DTSTART;TZID=America/Phoenix:20280706T180000
DTEND;TZID=America/Phoenix:20280706T190000
DTSTAMP:20260424T033013
CREATED:20251119T220549Z
LAST-MODIFIED:20251119T221855Z
UID:10001574-1846519200-1846522800@crcatucson.com
SUMMARY:Arc. Review Committee
DESCRIPTION:The Architectural Review Committee meets twice a month\, on the 1st Thursday at 6:00pm and the 3rd Thursday at 6:00pm.
URL:https://crcatucson.com/event/arc-review-committee-4-2/2028-07-06/
LOCATION:Windmill Park Conference Room\, 9150 N Coachline Blvd.\, Tucson\, AZ\, 85743\, United States
END:VEVENT
BEGIN:VEVENT
DTSTART;TZID=America/Phoenix:20280803T180000
DTEND;TZID=America/Phoenix:20280803T190000
DTSTAMP:20260424T033013
CREATED:20251119T220549Z
LAST-MODIFIED:20251119T221855Z
UID:10001575-1848938400-1848942000@crcatucson.com
SUMMARY:Arc. Review Committee
DESCRIPTION:The Architectural Review Committee meets twice a month\, on the 1st Thursday at 6:00pm and the 3rd Thursday at 6:00pm.
URL:https://crcatucson.com/event/arc-review-committee-4-2/2028-08-03/
LOCATION:Windmill Park Conference Room\, 9150 N Coachline Blvd.\, Tucson\, AZ\, 85743\, United States
END:VEVENT
BEGIN:VEVENT
DTSTART;TZID=America/Phoenix:20280907T180000
DTEND;TZID=America/Phoenix:20280907T190000
DTSTAMP:20260424T033013
CREATED:20251119T220549Z
LAST-MODIFIED:20251119T221855Z
UID:10001576-1851962400-1851966000@crcatucson.com
SUMMARY:Arc. Review Committee
DESCRIPTION:The Architectural Review Committee meets twice a month\, on the 1st Thursday at 6:00pm and the 3rd Thursday at 6:00pm.
URL:https://crcatucson.com/event/arc-review-committee-4-2/2028-09-07/
LOCATION:Windmill Park Conference Room\, 9150 N Coachline Blvd.\, Tucson\, AZ\, 85743\, United States
END:VEVENT
BEGIN:VEVENT
DTSTART;TZID=America/Phoenix:20281005T180000
DTEND;TZID=America/Phoenix:20281005T190000
DTSTAMP:20260424T033013
CREATED:20251119T220549Z
LAST-MODIFIED:20251119T221855Z
UID:10001577-1854381600-1854385200@crcatucson.com
SUMMARY:Arc. Review Committee
DESCRIPTION:The Architectural Review Committee meets twice a month\, on the 1st Thursday at 6:00pm and the 3rd Thursday at 6:00pm.
URL:https://crcatucson.com/event/arc-review-committee-4-2/2028-10-05/
LOCATION:Windmill Park Conference Room\, 9150 N Coachline Blvd.\, Tucson\, AZ\, 85743\, United States
END:VEVENT
BEGIN:VEVENT
DTSTART;TZID=America/Phoenix:20281102T180000
DTEND;TZID=America/Phoenix:20281102T190000
DTSTAMP:20260424T033013
CREATED:20251119T220549Z
LAST-MODIFIED:20251119T221855Z
UID:10001578-1856800800-1856804400@crcatucson.com
SUMMARY:Arc. Review Committee
DESCRIPTION:The Architectural Review Committee meets twice a month\, on the 1st Thursday at 6:00pm and the 3rd Thursday at 6:00pm.
URL:https://crcatucson.com/event/arc-review-committee-4-2/2028-11-02/
LOCATION:Windmill Park Conference Room\, 9150 N Coachline Blvd.\, Tucson\, AZ\, 85743\, United States
END:VEVENT
BEGIN:VEVENT
DTSTART;TZID=America/Phoenix:20281207T180000
DTEND;TZID=America/Phoenix:20281207T190000
DTSTAMP:20260424T033013
CREATED:20251119T220549Z
LAST-MODIFIED:20251119T221855Z
UID:10001579-1859824800-1859828400@crcatucson.com
SUMMARY:Arc. Review Committee
DESCRIPTION:The Architectural Review Committee meets twice a month\, on the 1st Thursday at 6:00pm and the 3rd Thursday at 6:00pm.
URL:https://crcatucson.com/event/arc-review-committee-4-2/2028-12-07/
LOCATION:Windmill Park Conference Room\, 9150 N Coachline Blvd.\, Tucson\, AZ\, 85743\, United States
END:VEVENT
BEGIN:VEVENT
DTSTART;TZID=America/Phoenix:20290104T180000
DTEND;TZID=America/Phoenix:20290104T190000
DTSTAMP:20260424T033013
CREATED:20251119T220549Z
LAST-MODIFIED:20251119T221855Z
UID:10001580-1862244000-1862247600@crcatucson.com
SUMMARY:Arc. Review Committee
DESCRIPTION:The Architectural Review Committee meets twice a month\, on the 1st Thursday at 6:00pm and the 3rd Thursday at 6:00pm.
URL:https://crcatucson.com/event/arc-review-committee-4-2/2029-01-04/
LOCATION:Windmill Park Conference Room\, 9150 N Coachline Blvd.\, Tucson\, AZ\, 85743\, United States
END:VEVENT
BEGIN:VEVENT
DTSTART;TZID=America/Phoenix:20290201T180000
DTEND;TZID=America/Phoenix:20290201T190000
DTSTAMP:20260424T033013
CREATED:20251119T220549Z
LAST-MODIFIED:20251119T221855Z
UID:10001581-1864663200-1864666800@crcatucson.com
SUMMARY:Arc. Review Committee
DESCRIPTION:The Architectural Review Committee meets twice a month\, on the 1st Thursday at 6:00pm and the 3rd Thursday at 6:00pm.
URL:https://crcatucson.com/event/arc-review-committee-4-2/2029-02-01/
LOCATION:Windmill Park Conference Room\, 9150 N Coachline Blvd.\, Tucson\, AZ\, 85743\, United States
END:VEVENT
BEGIN:VEVENT
DTSTART;TZID=America/Phoenix:20290301T180000
DTEND;TZID=America/Phoenix:20290301T190000
DTSTAMP:20260424T033013
CREATED:20251119T220549Z
LAST-MODIFIED:20251119T221855Z
UID:10001582-1867082400-1867086000@crcatucson.com
SUMMARY:Arc. Review Committee
DESCRIPTION:The Architectural Review Committee meets twice a month\, on the 1st Thursday at 6:00pm and the 3rd Thursday at 6:00pm.
URL:https://crcatucson.com/event/arc-review-committee-4-2/2029-03-01/
LOCATION:Windmill Park Conference Room\, 9150 N Coachline Blvd.\, Tucson\, AZ\, 85743\, United States
END:VEVENT
BEGIN:VEVENT
DTSTART;TZID=America/Phoenix:20290405T180000
DTEND;TZID=America/Phoenix:20290405T190000
DTSTAMP:20260424T033013
CREATED:20251119T220549Z
LAST-MODIFIED:20251119T221855Z
UID:10001583-1870106400-1870110000@crcatucson.com
SUMMARY:Arc. Review Committee
DESCRIPTION:The Architectural Review Committee meets twice a month\, on the 1st Thursday at 6:00pm and the 3rd Thursday at 6:00pm.
URL:https://crcatucson.com/event/arc-review-committee-4-2/2029-04-05/
LOCATION:Windmill Park Conference Room\, 9150 N Coachline Blvd.\, Tucson\, AZ\, 85743\, United States
END:VEVENT
BEGIN:VEVENT
DTSTART;TZID=America/Phoenix:20290503T180000
DTEND;TZID=America/Phoenix:20290503T190000
DTSTAMP:20260424T033013
CREATED:20251119T220549Z
LAST-MODIFIED:20251119T221855Z
UID:10001584-1872525600-1872529200@crcatucson.com
SUMMARY:Arc. Review Committee
DESCRIPTION:The Architectural Review Committee meets twice a month\, on the 1st Thursday at 6:00pm and the 3rd Thursday at 6:00pm.
URL:https://crcatucson.com/event/arc-review-committee-4-2/2029-05-03/
LOCATION:Windmill Park Conference Room\, 9150 N Coachline Blvd.\, Tucson\, AZ\, 85743\, United States
END:VEVENT
BEGIN:VEVENT
DTSTART;TZID=America/Phoenix:20290607T180000
DTEND;TZID=America/Phoenix:20290607T190000
DTSTAMP:20260424T033013
CREATED:20251119T220549Z
LAST-MODIFIED:20251119T221855Z
UID:10001585-1875549600-1875553200@crcatucson.com
SUMMARY:Arc. Review Committee
DESCRIPTION:The Architectural Review Committee meets twice a month\, on the 1st Thursday at 6:00pm and the 3rd Thursday at 6:00pm.
URL:https://crcatucson.com/event/arc-review-committee-4-2/2029-06-07/
LOCATION:Windmill Park Conference Room\, 9150 N Coachline Blvd.\, Tucson\, AZ\, 85743\, United States
END:VEVENT
BEGIN:VEVENT
DTSTART;TZID=America/Phoenix:20290705T180000
DTEND;TZID=America/Phoenix:20290705T190000
DTSTAMP:20260424T033013
CREATED:20251119T220549Z
LAST-MODIFIED:20251119T221855Z
UID:10001586-1877968800-1877972400@crcatucson.com
SUMMARY:Arc. Review Committee
DESCRIPTION:The Architectural Review Committee meets twice a month\, on the 1st Thursday at 6:00pm and the 3rd Thursday at 6:00pm.
URL:https://crcatucson.com/event/arc-review-committee-4-2/2029-07-05/
LOCATION:Windmill Park Conference Room\, 9150 N Coachline Blvd.\, Tucson\, AZ\, 85743\, United States
END:VEVENT
BEGIN:VEVENT
DTSTART;TZID=America/Phoenix:20290802T180000
DTEND;TZID=America/Phoenix:20290802T190000
DTSTAMP:20260424T033013
CREATED:20251119T220549Z
LAST-MODIFIED:20251119T221855Z
UID:10001587-1880388000-1880391600@crcatucson.com
SUMMARY:Arc. Review Committee
DESCRIPTION:The Architectural Review Committee meets twice a month\, on the 1st Thursday at 6:00pm and the 3rd Thursday at 6:00pm.
URL:https://crcatucson.com/event/arc-review-committee-4-2/2029-08-02/
LOCATION:Windmill Park Conference Room\, 9150 N Coachline Blvd.\, Tucson\, AZ\, 85743\, United States
END:VEVENT
BEGIN:VEVENT
DTSTART;TZID=America/Phoenix:20290906T180000
DTEND;TZID=America/Phoenix:20290906T190000
DTSTAMP:20260424T033013
CREATED:20251119T220549Z
LAST-MODIFIED:20251119T221855Z
UID:10001588-1883412000-1883415600@crcatucson.com
SUMMARY:Arc. Review Committee
DESCRIPTION:The Architectural Review Committee meets twice a month\, on the 1st Thursday at 6:00pm and the 3rd Thursday at 6:00pm.
URL:https://crcatucson.com/event/arc-review-committee-4-2/2029-09-06/
LOCATION:Windmill Park Conference Room\, 9150 N Coachline Blvd.\, Tucson\, AZ\, 85743\, United States
END:VEVENT
BEGIN:VEVENT
DTSTART;TZID=America/Phoenix:20291004T180000
DTEND;TZID=America/Phoenix:20291004T190000
DTSTAMP:20260424T033013
CREATED:20251119T220549Z
LAST-MODIFIED:20251119T221855Z
UID:10001589-1885831200-1885834800@crcatucson.com
SUMMARY:Arc. Review Committee
DESCRIPTION:The Architectural Review Committee meets twice a month\, on the 1st Thursday at 6:00pm and the 3rd Thursday at 6:00pm.
URL:https://crcatucson.com/event/arc-review-committee-4-2/2029-10-04/
LOCATION:Windmill Park Conference Room\, 9150 N Coachline Blvd.\, Tucson\, AZ\, 85743\, United States
END:VEVENT
BEGIN:VEVENT
DTSTART;TZID=America/Phoenix:20291101T180000
DTEND;TZID=America/Phoenix:20291101T190000
DTSTAMP:20260424T033013
CREATED:20251119T220549Z
LAST-MODIFIED:20251119T221855Z
UID:10001590-1888250400-1888254000@crcatucson.com
SUMMARY:Arc. Review Committee
DESCRIPTION:The Architectural Review Committee meets twice a month\, on the 1st Thursday at 6:00pm and the 3rd Thursday at 6:00pm.
URL:https://crcatucson.com/event/arc-review-committee-4-2/2029-11-01/
LOCATION:Windmill Park Conference Room\, 9150 N Coachline Blvd.\, Tucson\, AZ\, 85743\, United States
END:VEVENT
BEGIN:VEVENT
DTSTART;TZID=America/Phoenix:20291206T180000
DTEND;TZID=America/Phoenix:20291206T190000
DTSTAMP:20260424T033013
CREATED:20251119T220549Z
LAST-MODIFIED:20251119T221855Z
UID:10001591-1891274400-1891278000@crcatucson.com
SUMMARY:Arc. Review Committee
DESCRIPTION:The Architectural Review Committee meets twice a month\, on the 1st Thursday at 6:00pm and the 3rd Thursday at 6:00pm.
URL:https://crcatucson.com/event/arc-review-committee-4-2/2029-12-06/
LOCATION:Windmill Park Conference Room\, 9150 N Coachline Blvd.\, Tucson\, AZ\, 85743\, United States
END:VEVENT
BEGIN:VEVENT
DTSTART;TZID=America/Phoenix:20300103T180000
DTEND;TZID=America/Phoenix:20300103T190000
DTSTAMP:20260424T033013
CREATED:20251119T220549Z
LAST-MODIFIED:20251119T221855Z
UID:10001592-1893693600-1893697200@crcatucson.com
SUMMARY:Arc. Review Committee
DESCRIPTION:The Architectural Review Committee meets twice a month\, on the 1st Thursday at 6:00pm and the 3rd Thursday at 6:00pm.
URL:https://crcatucson.com/event/arc-review-committee-4-2/2030-01-03/
LOCATION:Windmill Park Conference Room\, 9150 N Coachline Blvd.\, Tucson\, AZ\, 85743\, United States
END:VEVENT
BEGIN:VEVENT
DTSTART;TZID=America/Phoenix:20300207T180000
DTEND;TZID=America/Phoenix:20300207T190000
DTSTAMP:20260424T033013
CREATED:20251119T220549Z
LAST-MODIFIED:20251119T221855Z
UID:10001593-1896717600-1896721200@crcatucson.com
SUMMARY:Arc. Review Committee
DESCRIPTION:The Architectural Review Committee meets twice a month\, on the 1st Thursday at 6:00pm and the 3rd Thursday at 6:00pm.
URL:https://crcatucson.com/event/arc-review-committee-4-2/2030-02-07/
LOCATION:Windmill Park Conference Room\, 9150 N Coachline Blvd.\, Tucson\, AZ\, 85743\, United States
END:VEVENT
END:VCALENDAR